BEGIN:VCALENDAR
VERSION:2.0
PRODID:-//Junior Brown - ECPv6.15.20//NONSGML v1.0//EN
CALSCALE:GREGORIAN
METHOD:PUBLISH
X-WR-CALNAME:Junior Brown
X-ORIGINAL-URL:https://www.juniorbrown.com
X-WR-CALDESC:Events for Junior Brown
REFRESH-INTERVAL;VALUE=DURATION:PT1H
X-Robots-Tag:noindex
X-PUBLISHED-TTL:PT1H
BEGIN:VTIMEZONE
TZID:America/Chicago
BEGIN:DAYLIGHT
TZOFFSETFROM:-0600
TZOFFSETTO:-0500
TZNAME:CDT
DTSTART:20250309T080000
END:DAYLIGHT
BEGIN:STANDARD
TZOFFSETFROM:-0500
TZOFFSETTO:-0600
TZNAME:CST
DTSTART:20251102T070000
END:STANDARD
BEGIN:DAYLIGHT
TZOFFSETFROM:-0600
TZOFFSETTO:-0500
TZNAME:CDT
DTSTART:20260308T080000
END:DAYLIGHT
BEGIN:STANDARD
TZOFFSETFROM:-0500
TZOFFSETTO:-0600
TZNAME:CST
DTSTART:20261101T070000
END:STANDARD
BEGIN:DAYLIGHT
TZOFFSETFROM:-0600
TZOFFSETTO:-0500
TZNAME:CDT
DTSTART:20270314T080000
END:DAYLIGHT
BEGIN:STANDARD
TZOFFSETFROM:-0500
TZOFFSETTO:-0600
TZNAME:CST
DTSTART:20271107T070000
END:STANDARD
END:VTIMEZONE
BEGIN:VEVENT
DTSTART;TZID=America/Chicago:20260508T180000
DTEND;TZID=America/Chicago:20260508T200000
DTSTAMP:20260423T094053
CREATED:20260316T071536Z
LAST-MODIFIED:20260316T071536Z
UID:4678-1778263200-1778270400@www.juniorbrown.com
SUMMARY:The Kessler - Dallas
DESCRIPTION:
URL:https://www.juniorbrown.com/show/the-kessler-dallas/
LOCATION:Kessler Theater\, Dallas\, TX\, US
END:VEVENT
BEGIN:VEVENT
DTSTART;TZID=America/Chicago:20260509T210000
DTEND;TZID=America/Chicago:20260509T223000
DTSTAMP:20260423T094053
CREATED:20260310T101915Z
LAST-MODIFIED:20260320T064447Z
UID:4646-1778360400-1778365800@www.juniorbrown.com
SUMMARY:Gruene Hall
DESCRIPTION:
URL:https://www.juniorbrown.com/show/gruene-hall/
LOCATION:Gruene Hall\, 1281 Gruene Rd\, New Braunfels\, TX\, 78130\, United States
END:VEVENT
END:VCALENDAR