BEGIN:VCALENDAR
VERSION:2.0
PRODID:-//Junior Brown - ECPv6.15.20//NONSGML v1.0//EN
CALSCALE:GREGORIAN
METHOD:PUBLISH
X-WR-CALNAME:Junior Brown
X-ORIGINAL-URL:https://www.juniorbrown.com
X-WR-CALDESC:Events for Junior Brown
REFRESH-INTERVAL;VALUE=DURATION:PT1H
X-Robots-Tag:noindex
X-PUBLISHED-TTL:PT1H
BEGIN:VTIMEZONE
TZID:America/Chicago
BEGIN:DAYLIGHT
TZOFFSETFROM:-0600
TZOFFSETTO:-0500
TZNAME:CDT
DTSTART:20250309T080000
END:DAYLIGHT
BEGIN:STANDARD
TZOFFSETFROM:-0500
TZOFFSETTO:-0600
TZNAME:CST
DTSTART:20251102T070000
END:STANDARD
BEGIN:DAYLIGHT
TZOFFSETFROM:-0600
TZOFFSETTO:-0500
TZNAME:CDT
DTSTART:20260308T080000
END:DAYLIGHT
BEGIN:STANDARD
TZOFFSETFROM:-0500
TZOFFSETTO:-0600
TZNAME:CST
DTSTART:20261101T070000
END:STANDARD
BEGIN:DAYLIGHT
TZOFFSETFROM:-0600
TZOFFSETTO:-0500
TZNAME:CDT
DTSTART:20270314T080000
END:DAYLIGHT
BEGIN:STANDARD
TZOFFSETFROM:-0500
TZOFFSETTO:-0600
TZNAME:CST
DTSTART:20271107T070000
END:STANDARD
END:VTIMEZONE
BEGIN:VEVENT
DTSTART;TZID=America/Chicago:20260724T193000
DTEND;TZID=America/Chicago:20260724T213000
DTSTAMP:20260423T125159
CREATED:20260310T102933Z
LAST-MODIFIED:20260422T074313Z
UID:4658-1784921400-1784928600@www.juniorbrown.com
SUMMARY:Denison Texas - Main Street Music Concert Series
DESCRIPTION:
URL:https://www.juniorbrown.com/show/denison-texas-main-street-music-concert-series/
LOCATION:TX
END:VEVENT
BEGIN:VEVENT
DTSTART;TZID=America/Chicago:20260725T200000
DTEND;TZID=America/Chicago:20260725T220000
DTSTAMP:20260423T125159
CREATED:20260420T062915Z
LAST-MODIFIED:20260420T063043Z
UID:4750-1785009600-1785016800@www.juniorbrown.com
SUMMARY:Tannahills Tavern & Music Hall
DESCRIPTION:
URL:https://www.juniorbrown.com/show/tannahills-tavern-music-hall/
LOCATION:Tannahills Tavern & Music Hall\, 122 E Exchange Ave Suite 200\, Fort Worth\, TX\, 76164\, United States
END:VEVENT
BEGIN:VEVENT
DTSTART;TZID=America/Chicago:20260809T080000
DTEND;TZID=America/Chicago:20260809T170000
DTSTAMP:20260423T125159
CREATED:20260310T095401Z
LAST-MODIFIED:20260316T061159Z
UID:4632-1786262400-1786294800@www.juniorbrown.com
SUMMARY:36th annual Rocky Mountain Folks Festival
DESCRIPTION:36th annual Rocky Mountain Folks Festival\nAugust 7-9\, 2026 • Lyons\, Colorado\n36th annual Rocky Mountain Folks Festival\nFor over 30 years our “Summit of the Song” has brought together some of our favorite songwriters of all genres to the Planet Bluegrass Ranch in Lyons\, CO for three days of music\, camping\, and inspiration. \nPlant your chair along the St. Vrain River for epic performances on the main stage\, intimate sets in the Wildflower Pavilion\, and magical moments with your Festivarian Family. \n \n 
URL:https://www.juniorbrown.com/show/36th-annual-rocky-mountain-folks-festival/
LOCATION:TX
END:VEVENT
END:VCALENDAR